BEGIN:VCALENDAR
VERSION:2.0
PRODID:-//Scouts Leuven - ECPv6.0.1.1//NONSGML v1.0//EN
CALSCALE:GREGORIAN
METHOD:PUBLISH
X-ORIGINAL-URL:https://scoutsleuven.be
X-WR-CALDESC:Evenementen voor Scouts Leuven
REFRESH-INTERVAL;VALUE=DURATION:PT1H
X-Robots-Tag:noindex
X-PUBLISHED-TTL:PT1H
BEGIN:VTIMEZONE
TZID:Europe/Paris
BEGIN:DAYLIGHT
TZOFFSETFROM:+0100
TZOFFSETTO:+0200
TZNAME:CEST
DTSTART:20220327T010000
END:DAYLIGHT
BEGIN:STANDARD
TZOFFSETFROM:+0200
TZOFFSETTO:+0100
TZNAME:CET
DTSTART:20221030T010000
END:STANDARD
END:VTIMEZONE
BEGIN:VEVENT
DTSTART;VALUE=DATE:20220312
DTEND;VALUE=DATE:20220318
DTSTAMP:20260425T141227
CREATED:20220917T121122Z
LAST-MODIFIED:20220917T121122Z
UID:1655-1647043200-1647561599@scoutsleuven.be
SUMMARY:BEZET
DESCRIPTION:
URL:https://scoutsleuven.be/verhuur/bezet-70/
END:VEVENT
BEGIN:VEVENT
DTSTART;TZID=Europe/Paris:20220314T200000
DTEND;TZID=Europe/Paris:20220315T230000
DTSTAMP:20260425T141227
CREATED:20220302T150457Z
LAST-MODIFIED:20220302T150457Z
UID:1532-1647288000-1647385200@scoutsleuven.be
SUMMARY:BEZET
DESCRIPTION:
URL:https://scoutsleuven.be/verhuur/bezet-42/
END:VEVENT
END:VCALENDAR