BEGIN:VCALENDAR
VERSION:2.0
PRODID:-//Scouts Leuven - ECPv6.0.1.1//NONSGML v1.0//EN
CALSCALE:GREGORIAN
METHOD:PUBLISH
X-ORIGINAL-URL:https://scoutsleuven.be
X-WR-CALDESC:Evenementen voor Scouts Leuven
REFRESH-INTERVAL;VALUE=DURATION:PT1H
X-Robots-Tag:noindex
X-PUBLISHED-TTL:PT1H
BEGIN:VTIMEZONE
TZID:Europe/Paris
BEGIN:DAYLIGHT
TZOFFSETFROM:+0100
TZOFFSETTO:+0200
TZNAME:CEST
DTSTART:20220327T010000
END:DAYLIGHT
BEGIN:STANDARD
TZOFFSETFROM:+0200
TZOFFSETTO:+0100
TZNAME:CET
DTSTART:20221030T010000
END:STANDARD
END:VTIMEZONE
BEGIN:VEVENT
DTSTART;TZID=Europe/Paris:20220415T080000
DTEND;TZID=Europe/Paris:20220417T220000
DTSTAMP:20260425T123514
CREATED:20211211T170024Z
LAST-MODIFIED:20211211T170024Z
UID:1479-1650009600-1650232800@scoutsleuven.be
SUMMARY:BEZET
DESCRIPTION:
URL:https://scoutsleuven.be/verhuur/bezet-37/
END:VEVENT
BEGIN:VEVENT
DTSTART;TZID=Europe/Paris:20220415T080000
DTEND;TZID=Europe/Paris:20220419T220000
DTSTAMP:20260425T123514
CREATED:20220409T113550Z
LAST-MODIFIED:20220409T113550Z
UID:1559-1650009600-1650405600@scoutsleuven.be
SUMMARY:BEZET
DESCRIPTION:
URL:https://scoutsleuven.be/verhuur/bezet-44/
END:VEVENT
END:VCALENDAR